BEGIN:VCALENDAR
VERSION:2.0
PRODID:-//Jazzgeschichten - ECPv6.2.9//NONSGML v1.0//EN
CALSCALE:GREGORIAN
METHOD:PUBLISH
X-ORIGINAL-URL:https://jazzgeschichten.de
X-WR-CALDESC:Veranstaltungen für Jazzgeschichten
REFRESH-INTERVAL;VALUE=DURATION:PT1H
X-Robots-Tag:noindex
X-PUBLISHED-TTL:PT1H
BEGIN:VTIMEZONE
TZID:Europe/Berlin
BEGIN:DAYLIGHT
TZOFFSETFROM:+0100
TZOFFSETTO:+0200
TZNAME:CEST
DTSTART:20260329T010000
END:DAYLIGHT
BEGIN:STANDARD
TZOFFSETFROM:+0200
TZOFFSETTO:+0100
TZNAME:CET
DTSTART:20261025T010000
END:STANDARD
END:VTIMEZONE
BEGIN:VEVENT
DTSTART;TZID=Europe/Berlin:20260521T180000
DTEND;TZID=Europe/Berlin:20260521T200000
DTSTAMP:20260420T023841
CREATED:20230506T104235Z
LAST-MODIFIED:20260331T075529Z
UID:5865-1779386400-1779393600@jazzgeschichten.de
SUMMARY:KIND OF GOLDEN - Der Neue Westen
DESCRIPTION:KIND OF GOLDEN – Der Neue Westen \nJazz Tour der Zwanziger Jahre\nam Ku`damm – die Goldenen Zwanziger ! Auf zu historischen Spielstätten des Jazz! Vorbei geht es an Gedächtniskirche oder dem Theater des Westens.\n\n\n beginnt vor dem ehemaligen FEMINA-HAUS\, Nürnberger Str. 50-55\, 10789 Berlin. Endet 120 Minuten später am QUASIMODO\, Kantstraße 12A\, 10623 Berlin. \n\n\nKontakt: 0171/5483492 oder anja@jazzgeschichten.de\n\n\nDen nächsten Termin seht an der Seite!\n\n\n€ 15/Person\n\n\nam Ku`damm. Das moderne Groß-Bürgertum: Lassen wir uns von dem Glanz der „Goldenen Zwanziger“ nicht blenden! Eine Musik erzählt von den Widersprüchen – Jazz! Hoch umstritten und heiß umkämpft war „dieses Jazz“. Aber nach dem ersten Weltkrieg schlug „es“ in Berlin tiefe Wurzeln. \nam Ku`damm – die Goldenen Zwanziger mit Marlene Dietrich\, Friedrich Hollaender\, Rudolf Nelson und Josephine Baker! \n 
URL:https://jazzgeschichten.de/event/kind-of-golden-der-neue-westen/
LOCATION:in front of the former FEMINA-HAUS\, Nürnberger Str. 50-55\, 10789 Berlin\, Nürnberger Str. 50-55\, Berlin\, 10789
ATTACH;FMTTYPE=image/jpeg:https://jazzgeschichten.de/wp-content/uploads/2023/05/Julian-Fuhs-1.jpg
ORGANIZER;CN="Jazzgeschichten":MAILTO:anja@jazzgeschichten.de
END:VEVENT
END:VCALENDAR